BEGIN:VCALENDAR
VERSION:2.0
PRODID:-//eventon.com NONSGML v1.0//EN
CALSCALE:GREGORIAN
METHOD:PUBLISH
BEGIN:VEVENT
UID:69e730a05364c
DTSTAMP:20260421T080904Z
DTSTART:20240823T190000Z
DTEND:20240824T000000Z
LOCATION:House of Blues Houston 1204 Caroline St\,  Houston\,  TX 77002
SUMMARY:Moenia Pixel Tour 2024                                                             Houston\,  TX
DESCRIPTION:\nhttps://rockeros.net/eventos/moenia-pixel-tour-2024/
URL:https://rockeros.net/eventos/moenia-pixel-tour-2024/
END:VEVENT
END:VCALENDAR