BEGIN:VCALENDAR
VERSION:2.0
PRODID:-//eventon.com NONSGML v1.0//EN
CALSCALE:GREGORIAN
METHOD:PUBLISH
BEGIN:VEVENT
UID:69e6d5a18ed83
DTSTAMP:20260421T014049Z
DTSTART:20240615T010000Z
DTEND:20240615T065000Z
LOCATION:Levitt Pavilion Denver 1380 W. Florida Ave.\,  Denver\,  CO 80223
SUMMARY:Caifanes and Café Tacvba - Levitt Pavilion Denver
DESCRIPTION:\nhttps://rockeros.net/eventos/caifanes-and-cafe-tacvba-levitt-
 pavilion-denver/
URL:https://rockeros.net/eventos/caifanes-and-cafe-tacvba-levitt-pavilion-denver/
END:VEVENT
END:VCALENDAR