BEGIN:VCALENDAR
VERSION:2.0
PRODID:-//eventon.com NONSGML v1.0//EN
CALSCALE:GREGORIAN
METHOD:PUBLISH
BEGIN:VEVENT
UID:69e6d69a22316
DTSTAMP:20260421T014458Z
DTSTART:20240612T020000Z
DTEND:20240612T065000Z
LOCATION:Talking Stick Resort Amphitheatre 2121 N 83rd Ave\,  Phoenix\,  AZ 85035
SUMMARY:Caifanes and Café Tacvba - Talking Stick Resort Phoenix AZ
DESCRIPTION:\nhttps://rockeros.net/eventos/caifanes-and-cafe-tacvba-talking
 -stick-resort-phoenix-az/
URL:https://rockeros.net/eventos/caifanes-and-cafe-tacvba-talking-stick-resort-phoenix-az/
END:VEVENT
END:VCALENDAR