BEGIN:VCALENDAR
VERSION:2.0
PRODID:-//eventon.com NONSGML v1.0//EN
CALSCALE:GREGORIAN
METHOD:PUBLISH
BEGIN:VEVENT
UID:69e6d95602197
DTSTAMP:20260421T015638Z
DTSTART:20240606T020000Z
DTEND:20240606T065000Z
LOCATION:Hollywood Bowl 2301 N Highland Ave\,  Hollywood\,  CA 90068
SUMMARY:Caifanes and Café Tacvba - Hollywood Bowl Los Angeles CA
DESCRIPTION:\nhttps://rockeros.net/eventos/caifanes-and-cafe-tacvba-hollywo
 od-bowl-los-angeles-ca/
URL:https://rockeros.net/eventos/caifanes-and-cafe-tacvba-hollywood-bowl-los-angeles-ca/
END:VEVENT
END:VCALENDAR