BEGIN:VCALENDAR
VERSION:2.0
PRODID:-//eventon.com NONSGML v1.0//EN
CALSCALE:GREGORIAN
METHOD:PUBLISH
BEGIN:VEVENT
UID:69e6d54e5cd79
DTSTAMP:20260421T013926Z
DTSTART:20240531T030000Z
DTEND:20240531T065000Z
LOCATION:WAMU Theater 800 Occidental Ave S\,  Seattle\,  WA 98134
SUMMARY:Caifanes and Café Tacvba - North America Tour 2024 Seatle WA
DESCRIPTION:\nhttps://rockeros.net/eventos/caifanes-and-cafe-tacvba-north-a
 merica-tour-2024-seatle-wa/
URL:https://rockeros.net/eventos/caifanes-and-cafe-tacvba-north-america-tour-2024-seatle-wa/
END:VEVENT
END:VCALENDAR